<?xml version="1.0" encoding="UTF-8"?>
<Capabilities xmlns="http://www.opengis.net/wmts/1.0"
xmlns:ows="http://www.opengis.net/ows/1.1"
xmlns:xlink="http://www.w3.org/1999/xlink"
xmlns:xsi="http://www.w3.org/2001/XMLSchema-instance"
xmlns:gml="http://www.opengis.net/gml"
xsi:schemaLocation="http://www.opengis.net/wmts/1.0 http://schemas.opengis.net/wmts/1.0/wmtsGetCapabilities_response.xsd"
version="1.0.0">
<!-- Service Identification --> <ows:ServiceIdentification>
<ows:Title>GeologicMaps_Firehole_Canyon_100k_Bedrock_Geologic_Map</ows:Title>
<ows:ServiceType>OGC WMTS</ows:ServiceType>
<ows:ServiceTypeVersion>1.0.0</ows:ServiceTypeVersion>
</ows:ServiceIdentification> <!-- Operations Metadata --> <ows:OperationsMetadata>
<ows:Operation name="GetCapabilities">
<ows:DCP>
<ows:HTTP>
<ows:Get xlink:href="https://portal.wsgs.wyo.gov/ags/rest/services/GeologicMaps/Firehole_Canyon_100k_Bedrock_Geologic_Map/MapServer/WMTS/1.0.0/WMTSCapabilities.xml">
<ows:Constraint name="GetEncoding">
<ows:AllowedValues>
<ows:Value>RESTful</ows:Value>
</ows:AllowedValues>
</ows:Constraint>
</ows:Get>
<!-- add KVP binding in 10.1 -->
<ows:Get xlink:href="https://portal.wsgs.wyo.gov/ags/rest/services/GeologicMaps/Firehole_Canyon_100k_Bedrock_Geologic_Map/MapServer/WMTS?">
<ows:Constraint name="GetEncoding">
<ows:AllowedValues>
<ows:Value>KVP</ows:Value>
</ows:AllowedValues>
</ows:Constraint>
</ows:Get>
</ows:HTTP>
</ows:DCP>
</ows:Operation>
<ows:Operation name="GetTile">
<ows:DCP>
<ows:HTTP>
<ows:Get xlink:href="https://portal.wsgs.wyo.gov/ags/rest/services/GeologicMaps/Firehole_Canyon_100k_Bedrock_Geologic_Map/MapServer/WMTS/tile/1.0.0/">
<ows:Constraint name="GetEncoding">
<ows:AllowedValues>
<ows:Value>RESTful</ows:Value>
</ows:AllowedValues>
</ows:Constraint>
</ows:Get>
<ows:Get xlink:href="https://portal.wsgs.wyo.gov/ags/rest/services/GeologicMaps/Firehole_Canyon_100k_Bedrock_Geologic_Map/MapServer/WMTS?">
<ows:Constraint name="GetEncoding">
<ows:AllowedValues>
<ows:Value>KVP</ows:Value>
</ows:AllowedValues>
</ows:Constraint>
</ows:Get>
</ows:HTTP>
</ows:DCP>
</ows:Operation>
</ows:OperationsMetadata> <Contents>
<!--Layer--> <Layer>
<ows:Title>GeologicMaps_Firehole_Canyon_100k_Bedrock_Geologic_Map</ows:Title> <ows:Identifier>GeologicMaps_Firehole_Canyon_100k_Bedrock_Geologic_Map</ows:Identifier>
<ows:BoundingBox crs="urn:ogc:def:crs:EPSG::26712">
<ows:LowerCorner>583465.5686999997 4538607.458900001</ows:LowerCorner>
<ows:UpperCorner>668212.4129999997 4595982.4693</ows:UpperCorner>
</ows:BoundingBox> <ows:WGS84BoundingBox crs="urn:ogc:def:crs:OGC:2:84">
<ows:LowerCorner>-110.00840538329557 40.98323047207448</ows:LowerCorner>
<ows:UpperCorner>-108.98542496774846 41.51304498442244</ows:UpperCorner>
</ows:WGS84BoundingBox>
<Style isDefault="true">
<ows:Title>Default Style</ows:Title>
<ows:Identifier>default</ows:Identifier>
</Style>
<Format>image/jpgpng</Format>
<TileMatrixSetLink>
<TileMatrixSet>default028mm</TileMatrixSet>
</TileMatrixSetLink>
<ResourceURL format="image/jpgpng" resourceType="tile" template="https://portal.wsgs.wyo.gov/ags/rest/services/GeologicMaps/Firehole_Canyon_100k_Bedrock_Geologic_Map/MapServer/WMTS/tile/1.0.0/GeologicMaps_Firehole_Canyon_100k_Bedrock_Geologic_Map/{Style}/{TileMatrixSet}/{TileMatrix}/{TileRow}/{TileCol}" />
</Layer> <!--TileMatrixSet-->
<TileMatrixSet>
<ows:Title>TileMatrix using 0.28mm</ows:Title>
<ows:Abstract>The tile matrix set that has scale values calculated based on the dpi defined by OGC specification (dpi assumes 0.28mm as the physical distance of a pixel).</ows:Abstract> <ows:Identifier>default028mm</ows:Identifier>
<ows:SupportedCRS>urn:ogc:def:crs:EPSG::26712</ows:SupportedCRS>
<TileMatrix>
<ows:Identifier>0</ows:Identifier>
<ScaleDenominator>2.789588807969081E8</ScaleDenominator>
<TopLeftCorner>-9497886.287762443 9997886.287762443</TopLeftCorner> <TileWidth>256</TileWidth> <TileHeight>256</TileHeight>
<MatrixWidth>1</MatrixWidth> <MatrixHeight>1</MatrixHeight>
</TileMatrix>
<TileMatrix>
<ows:Identifier>1</ows:Identifier>
<ScaleDenominator>1.3947944039845404E8</ScaleDenominator>
<TopLeftCorner>-9497886.287762443 9997886.287762443</TopLeftCorner> <TileWidth>256</TileWidth> <TileHeight>256</TileHeight>
<MatrixWidth>2</MatrixWidth> <MatrixHeight>1</MatrixHeight>
</TileMatrix>
<TileMatrix>
<ows:Identifier>2</ows:Identifier>
<ScaleDenominator>6.973972019922702E7</ScaleDenominator>
<TopLeftCorner>-9497886.287762443 9997886.287762443</TopLeftCorner> <TileWidth>256</TileWidth> <TileHeight>256</TileHeight>
<MatrixWidth>3</MatrixWidth> <MatrixHeight>2</MatrixHeight>
</TileMatrix>
<TileMatrix>
<ows:Identifier>3</ows:Identifier>
<ScaleDenominator>3.486986009961351E7</ScaleDenominator>
<TopLeftCorner>-9497886.287762443 9997886.287762443</TopLeftCorner> <TileWidth>256</TileWidth> <TileHeight>256</TileHeight>
<MatrixWidth>5</MatrixWidth> <MatrixHeight>3</MatrixHeight>
</TileMatrix>
<TileMatrix>
<ows:Identifier>4</ows:Identifier>
<ScaleDenominator>1.7434930049806755E7</ScaleDenominator>
<TopLeftCorner>-9497886.287762443 9997886.287762443</TopLeftCorner> <TileWidth>256</TileWidth> <TileHeight>256</TileHeight>
<MatrixWidth>9</MatrixWidth> <MatrixHeight>5</MatrixHeight>
</TileMatrix>
<TileMatrix>
<ows:Identifier>5</ows:Identifier>
<ScaleDenominator>8717465.024903378</ScaleDenominator>
<TopLeftCorner>-9497886.287762443 9997886.287762443</TopLeftCorner> <TileWidth>256</TileWidth> <TileHeight>256</TileHeight>
<MatrixWidth>17</MatrixWidth> <MatrixHeight>9</MatrixHeight>
</TileMatrix>
<TileMatrix>
<ows:Identifier>6</ows:Identifier>
<ScaleDenominator>4358732.512451689</ScaleDenominator>
<TopLeftCorner>-9497886.287762443 9997886.287762443</TopLeftCorner> <TileWidth>256</TileWidth> <TileHeight>256</TileHeight>
<MatrixWidth>33</MatrixWidth> <MatrixHeight>18</MatrixHeight>
</TileMatrix>
<TileMatrix>
<ows:Identifier>7</ows:Identifier>
<ScaleDenominator>2179366.2562258444</ScaleDenominator>
<TopLeftCorner>-9497886.287762443 9997886.287762443</TopLeftCorner> <TileWidth>256</TileWidth> <TileHeight>256</TileHeight>
<MatrixWidth>66</MatrixWidth> <MatrixHeight>35</MatrixHeight>
</TileMatrix>
<TileMatrix>
<ows:Identifier>8</ows:Identifier>
<ScaleDenominator>1089683.1281129222</ScaleDenominator>
<TopLeftCorner>-9497886.287762443 9997886.287762443</TopLeftCorner> <TileWidth>256</TileWidth> <TileHeight>256</TileHeight>
<MatrixWidth>131</MatrixWidth> <MatrixHeight>70</MatrixHeight>
</TileMatrix>
<TileMatrix>
<ows:Identifier>9</ows:Identifier>
<ScaleDenominator>544841.5640564611</ScaleDenominator>
<TopLeftCorner>-9497886.287762443 9997886.287762443</TopLeftCorner> <TileWidth>256</TileWidth> <TileHeight>256</TileHeight>
<MatrixWidth>261</MatrixWidth> <MatrixHeight>140</MatrixHeight>
</TileMatrix>
<TileMatrix>
<ows:Identifier>10</ows:Identifier>
<ScaleDenominator>272420.78202823055</ScaleDenominator>
<TopLeftCorner>-9497886.287762443 9997886.287762443</TopLeftCorner> <TileWidth>256</TileWidth> <TileHeight>256</TileHeight>
<MatrixWidth>521</MatrixWidth> <MatrixHeight>280</MatrixHeight>
</TileMatrix>
<TileMatrix>
<ows:Identifier>11</ows:Identifier>
<ScaleDenominator>136210.39101411527</ScaleDenominator>
<TopLeftCorner>-9497886.287762443 9997886.287762443</TopLeftCorner> <TileWidth>256</TileWidth> <TileHeight>256</TileHeight>
<MatrixWidth>1042</MatrixWidth> <MatrixHeight>560</MatrixHeight>
</TileMatrix>
<TileMatrix>
<ows:Identifier>12</ows:Identifier>
<ScaleDenominator>68105.19550705764</ScaleDenominator>
<TopLeftCorner>-9497886.287762443 9997886.287762443</TopLeftCorner> <TileWidth>256</TileWidth> <TileHeight>256</TileHeight>
<MatrixWidth>2083</MatrixWidth> <MatrixHeight>1119</MatrixHeight>
</TileMatrix>
<TileMatrix>
<ows:Identifier>13</ows:Identifier>
<ScaleDenominator>34052.59775352882</ScaleDenominator>
<TopLeftCorner>-9497886.287762443 9997886.287762443</TopLeftCorner> <TileWidth>256</TileWidth> <TileHeight>256</TileHeight>
<MatrixWidth>4165</MatrixWidth> <MatrixHeight>2237</MatrixHeight>
</TileMatrix>
<TileMatrix>
<ows:Identifier>14</ows:Identifier>
<ScaleDenominator>17026.29887676441</ScaleDenominator>
<TopLeftCorner>-9497886.287762443 9997886.287762443</TopLeftCorner> <TileWidth>256</TileWidth> <TileHeight>256</TileHeight>
<MatrixWidth>8330</MatrixWidth> <MatrixHeight>4474</MatrixHeight>
</TileMatrix>
<TileMatrix>
<ows:Identifier>15</ows:Identifier>
<ScaleDenominator>8513.149438382205</ScaleDenominator>
<TopLeftCorner>-9497886.287762443 9997886.287762443</TopLeftCorner> <TileWidth>256</TileWidth> <TileHeight>256</TileHeight>
<MatrixWidth>16660</MatrixWidth> <MatrixHeight>8947</MatrixHeight>
</TileMatrix>
<TileMatrix>
<ows:Identifier>16</ows:Identifier>
<ScaleDenominator>4256.574719191102</ScaleDenominator>
<TopLeftCorner>-9497886.287762443 9997886.287762443</TopLeftCorner> <TileWidth>256</TileWidth> <TileHeight>256</TileHeight>
<MatrixWidth>33320</MatrixWidth> <MatrixHeight>17893</MatrixHeight>
</TileMatrix>
<TileMatrix>
<ows:Identifier>17</ows:Identifier>
<ScaleDenominator>2128.287359595551</ScaleDenominator>
<TopLeftCorner>-9497886.287762443 9997886.287762443</TopLeftCorner> <TileWidth>256</TileWidth> <TileHeight>256</TileHeight>
<MatrixWidth>66639</MatrixWidth> <MatrixHeight>35786</MatrixHeight>
</TileMatrix>
<TileMatrix>
<ows:Identifier>18</ows:Identifier>
<ScaleDenominator>1064.1436797977756</ScaleDenominator>
<TopLeftCorner>-9497886.287762443 9997886.287762443</TopLeftCorner> <TileWidth>256</TileWidth> <TileHeight>256</TileHeight>
<MatrixWidth>133278</MatrixWidth> <MatrixHeight>71571</MatrixHeight>
</TileMatrix>
<TileMatrix>
<ows:Identifier>19</ows:Identifier>
<ScaleDenominator>532.0718398988878</ScaleDenominator>
<TopLeftCorner>-9497886.287762443 9997886.287762443</TopLeftCorner> <TileWidth>256</TileWidth> <TileHeight>256</TileHeight>
<MatrixWidth>266555</MatrixWidth> <MatrixHeight>143142</MatrixHeight>
</TileMatrix>
<TileMatrix>
<ows:Identifier>20</ows:Identifier>
<ScaleDenominator>266.0359199494439</ScaleDenominator>
<TopLeftCorner>-9497886.287762443 9997886.287762443</TopLeftCorner> <TileWidth>256</TileWidth> <TileHeight>256</TileHeight>
<MatrixWidth>533110</MatrixWidth> <MatrixHeight>286284</MatrixHeight>
</TileMatrix>
<TileMatrix>
<ows:Identifier>21</ows:Identifier>
<ScaleDenominator>133.01795997472195</ScaleDenominator>
<TopLeftCorner>-9497886.287762443 9997886.287762443</TopLeftCorner> <TileWidth>256</TileWidth> <TileHeight>256</TileHeight>
<MatrixWidth>1066219</MatrixWidth> <MatrixHeight>572568</MatrixHeight>
</TileMatrix>
<TileMatrix>
<ows:Identifier>22</ows:Identifier>
<ScaleDenominator>66.50897998736097</ScaleDenominator>
<TopLeftCorner>-9497886.287762443 9997886.287762443</TopLeftCorner> <TileWidth>256</TileWidth> <TileHeight>256</TileHeight>
<MatrixWidth>2132437</MatrixWidth> <MatrixHeight>1145136</MatrixHeight>
</TileMatrix>
<TileMatrix>
<ows:Identifier>23</ows:Identifier>
<ScaleDenominator>33.25448999368049</ScaleDenominator>
<TopLeftCorner>-9497886.287762443 9997886.287762443</TopLeftCorner> <TileWidth>256</TileWidth> <TileHeight>256</TileHeight>
<MatrixWidth>4264873</MatrixWidth> <MatrixHeight>2290272</MatrixHeight>
</TileMatrix>
</TileMatrixSet>
</Contents>
<ServiceMetadataURL xlink:href="https://portal.wsgs.wyo.gov/ags/rest/services/GeologicMaps/Firehole_Canyon_100k_Bedrock_Geologic_Map/MapServer/WMTS/1.0.0/WMTSCapabilities.xml" /> </Capabilities>
